BEGIN:VCALENDAR
VERSION:2.0
PRODID:-//VideoAge International - ECPv6.15.16//NONSGML v1.0//EN
CALSCALE:GREGORIAN
METHOD:PUBLISH
X-ORIGINAL-URL:https://www.videoageinternational.net
X-WR-CALDESC:Events for VideoAge International
REFRESH-INTERVAL;VALUE=DURATION:PT1H
X-Robots-Tag:noindex
X-PUBLISHED-TTL:PT1H
BEGIN:VTIMEZONE
TZID:UTC
BEGIN:STANDARD
TZOFFSETFROM:+0000
TZOFFSETTO:+0000
TZNAME:UTC
DTSTART:20250101T000000
END:STANDARD
END:VTIMEZONE
BEGIN:VEVENT
DTSTART;VALUE=DATE:20260122
DTEND;VALUE=DATE:20260202
DTSTAMP:20260423T150853
CREATED:20181006T131156Z
LAST-MODIFIED:20260103T112737Z
UID:27022-1769040000-1769990399@www.videoageinternational.net
SUMMARY:SUNDANCE FILM FESTIVAL
DESCRIPTION:January 22-February 1\nPark City\, Utah\, U.S. \nTel: (+1 310) 360-1981 \nwww.sundance.org
URL:https://www.videoageinternational.net/event/sundance-film-festival/
LOCATION:Park City\, Park City\, UT\, United States
CATEGORIES:Events
ATTACH;FMTTYPE=image/jpeg:https://www.videoageinternational.net/wp-content/uploads/2015/11/park-city-at-night.jpg
END:VEVENT
BEGIN:VEVENT
DTSTART;VALUE=DATE:20260202
DTEND;VALUE=DATE:20260207
DTSTAMP:20260423T150853
CREATED:20151121T220526Z
LAST-MODIFIED:20260103T112847Z
UID:13105-1769990400-1770422399@www.videoageinternational.net
SUMMARY:NATPE GLOBAL & REALSCREEN SUMMIT
DESCRIPTION:February 2-6\, 2026\nMiami\, Florida\, U.S. \nTel: (+1 416) 408-2300 \nwww.global.natpe.com
URL:https://www.videoageinternational.net/event/natpe-global-realscreen-summit/
LOCATION:Miami\, Miami\, FL\, United States
CATEGORIES:Events
ATTACH;FMTTYPE=image/jpeg:https://www.videoageinternational.net/wp-content/uploads/2015/11/miami.jpg
END:VEVENT
BEGIN:VEVENT
DTSTART;VALUE=DATE:20260212
DTEND;VALUE=DATE:20260223
DTSTAMP:20260423T150853
CREATED:20151121T220832Z
LAST-MODIFIED:20260103T112934Z
UID:13108-1770854400-1771804799@www.videoageinternational.net
SUMMARY:BERLINALE
DESCRIPTION:February 12-22\nBerlin\, Germany \nTel: (49 30) 2592-0707 \nwww.berlinale.de
URL:https://www.videoageinternational.net/event/berlinale-co-production-market/
LOCATION:Berlin\, Berlin\, Germany
CATEGORIES:Events
ATTACH;FMTTYPE=image/jpeg:https://www.videoageinternational.net/wp-content/uploads/2015/11/BerlinaleBear.jpg
END:VEVENT
END:VCALENDAR