BEGIN:VCALENDAR
VERSION:2.0
PRODID:-//VideoAge International - ECPv6.15.16//NONSGML v1.0//EN
CALSCALE:GREGORIAN
METHOD:PUBLISH
X-ORIGINAL-URL:https://www.videoageinternational.net
X-WR-CALDESC:Events for VideoAge International
REFRESH-INTERVAL;VALUE=DURATION:PT1H
X-Robots-Tag:noindex
X-PUBLISHED-TTL:PT1H
BEGIN:VTIMEZONE
TZID:UTC
BEGIN:STANDARD
TZOFFSETFROM:+0000
TZOFFSETTO:+0000
TZNAME:UTC
DTSTART:20250101T000000
END:STANDARD
END:VTIMEZONE
BEGIN:VEVENT
DTSTART;VALUE=DATE:20260312
DTEND;VALUE=DATE:20260319
DTSTAMP:20260424T083516
CREATED:20170225T155139Z
LAST-MODIFIED:20260103T113120Z
UID:19737-1773273600-1773878399@www.videoageinternational.net
SUMMARY:SXSW
DESCRIPTION:March 12-18\nAustin\, U.S. \nTel: (+1 512) 467-7979 \nwww.sxsw.com
URL:https://www.videoageinternational.net/event/sxsw/
LOCATION:Austin\, Austin\, TX\, United States
CATEGORIES:Events
ATTACH;FMTTYPE=image/jpeg:https://www.videoageinternational.net/wp-content/uploads/2017/02/austin.jpg
END:VEVENT
END:VCALENDAR