BEGIN:VCALENDAR
VERSION:2.0
PRODID:-//VideoAge International - ECPv6.15.16//NONSGML v1.0//EN
CALSCALE:GREGORIAN
METHOD:PUBLISH
X-ORIGINAL-URL:https://www.videoageinternational.net
X-WR-CALDESC:Events for VideoAge International
REFRESH-INTERVAL;VALUE=DURATION:PT1H
X-Robots-Tag:noindex
X-PUBLISHED-TTL:PT1H
BEGIN:VTIMEZONE
TZID:UTC
BEGIN:STANDARD
TZOFFSETFROM:+0000
TZOFFSETTO:+0000
TZNAME:UTC
DTSTART:20250101T000000
END:STANDARD
END:VTIMEZONE
BEGIN:VEVENT
DTSTART;VALUE=DATE:20260902
DTEND;VALUE=DATE:20260913
DTSTAMP:20260423T225043
CREATED:20151122T220339Z
LAST-MODIFIED:20260103T114822Z
UID:13147-1788307200-1789257599@www.videoageinternational.net
SUMMARY:VENICE FILM FESTIVAL
DESCRIPTION:September 2-12\nVenice\, Italy \nTel: (+39 041) 521 8718 \nwww.labiennale.org
URL:https://www.videoageinternational.net/event/venice-film-festival/
LOCATION:Venice\, Venice\, Italy
CATEGORIES:Events
ATTACH;FMTTYPE=image/jpeg:https://www.videoageinternational.net/wp-content/uploads/2015/11/Venice.jpg
END:VEVENT
BEGIN:VEVENT
DTSTART;VALUE=DATE:20261012
DTEND;VALUE=DATE:20261016
DTSTAMP:20260423T225043
CREATED:20151122T221300Z
LAST-MODIFIED:20260103T115053Z
UID:13158-1791763200-1792108799@www.videoageinternational.net
SUMMARY:MIPCOM CANNES
DESCRIPTION:October 12-15\nCannes\, France \nTel: (+33 7) 7769-3496 \nwww.mipcom.com
URL:https://www.videoageinternational.net/event/mipcom/
LOCATION:Cannes\, Cannes\, France
CATEGORIES:Events
ATTACH;FMTTYPE=image/jpeg:https://www.videoageinternational.net/wp-content/uploads/2015/11/CannesHarbor.jpg
END:VEVENT
BEGIN:VEVENT
DTSTART;VALUE=DATE:20261028
DTEND;VALUE=DATE:20261031
DTSTAMP:20260423T225043
CREATED:20221221T004623Z
LAST-MODIFIED:20260103T115333Z
UID:48078-1793145600-1793404799@www.videoageinternational.net
SUMMARY:MIP AFRICA
DESCRIPTION:October 28-30\nCape Town\, South Africa \nTel: (+27 010) 496 3500 \nwww.mipafrica.com
URL:https://www.videoageinternational.net/event/mip-africa/
LOCATION:Cape Town
CATEGORIES:Events
ATTACH;FMTTYPE=image/jpeg:https://www.videoageinternational.net/wp-content/uploads/2022/12/CapeTownWaterfront.jpg
END:VEVENT
BEGIN:VEVENT
DTSTART;VALUE=DATE:20261110
DTEND;VALUE=DATE:20261112
DTSTAMP:20260423T225043
CREATED:20240319T161925Z
LAST-MODIFIED:20260103T115454Z
UID:53446-1794268800-1794441599@www.videoageinternational.net
SUMMARY:DUBAI INTERNATIONAL CONTENT MARKET
DESCRIPTION:November 10-11\nMadinat Jumeirah\, UAE \nTel: (+971 4) 520-8888 \nwww.dicm.ae
URL:https://www.videoageinternational.net/event/dubai-international-content-market/
LOCATION:Dubai\, Dubai\, United Arab Emirates
CATEGORIES:Events
ATTACH;FMTTYPE=image/jpeg:https://www.videoageinternational.net/wp-content/uploads/2023/01/Dubai.jpeg
END:VEVENT
BEGIN:VEVENT
DTSTART;VALUE=DATE:20261117
DTEND;VALUE=DATE:20261121
DTSTAMP:20260423T225043
CREATED:20151122T220542Z
LAST-MODIFIED:20260103T115714Z
UID:13148-1794873600-1795219199@www.videoageinternational.net
SUMMARY:MIP CANCUN
DESCRIPTION:November 17-20\nCancun\, Mexico \nTel: (+33 7) 7769-3496 \nwww.mipcancun.com
URL:https://www.videoageinternational.net/event/mip-cancun/
LOCATION:Cancun\, Cancun\, Mexico
CATEGORIES:Events
ATTACH;FMTTYPE=image/jpeg:https://www.videoageinternational.net/wp-content/uploads/2015/11/Cancun.jpg
END:VEVENT
BEGIN:VEVENT
DTSTART;VALUE=DATE:20261202
DTEND;VALUE=DATE:20261206
DTSTAMP:20260423T225043
CREATED:20151122T222016Z
LAST-MODIFIED:20260103T115819Z
UID:13163-1796169600-1796515199@www.videoageinternational.net
SUMMARY:ASIA TV FORUM
DESCRIPTION:December 2-5\nSingapore\, Rep. of Singapore \nTel: (+34 692) 553 999 \nwww.asiatvforum.com
URL:https://www.videoageinternational.net/event/asia-tv-forum/
LOCATION:Singapore\, Singapore\, Singapore
CATEGORIES:Events
ATTACH;FMTTYPE=image/jpeg:https://www.videoageinternational.net/wp-content/uploads/2015/09/singapore.jpg
END:VEVENT
END:VCALENDAR