BEGIN:VCALENDAR
VERSION:2.0
PRODID:-//VideoAge International - ECPv6.15.16//NONSGML v1.0//EN
CALSCALE:GREGORIAN
METHOD:PUBLISH
X-WR-CALNAME:VideoAge International
X-ORIGINAL-URL:https://www.videoageinternational.net
X-WR-CALDESC:Events for VideoAge International
REFRESH-INTERVAL;VALUE=DURATION:PT1H
X-Robots-Tag:noindex
X-PUBLISHED-TTL:PT1H
BEGIN:VTIMEZONE
TZID:UTC
BEGIN:STANDARD
TZOFFSETFROM:+0000
TZOFFSETTO:+0000
TZNAME:UTC
DTSTART:20250101T000000
END:STANDARD
END:VTIMEZONE
BEGIN:VEVENT
DTSTART;VALUE=DATE:20260608
DTEND;VALUE=DATE:20260612
DTSTAMP:20260423T182129
CREATED:20250929T155458Z
LAST-MODIFIED:20260103T114610Z
UID:60467-1780876800-1781222399@www.videoageinternational.net
SUMMARY:NEM DUBROVNIK
DESCRIPTION:June 8-11\nDubrovnik\, Croatia \nTel: (+385) 1 6408 310 \nwww.neweumarket.com
URL:https://www.videoageinternational.net/event/nem-zagreb/
LOCATION:Dubrovnik\, Dubrovnik\, Croatia (Local Name: Hrvatska)
CATEGORIES:Events
ATTACH;FMTTYPE=image/jpeg:https://www.videoageinternational.net/wp-content/uploads/2016/02/dubrovnik1.jpg
END:VEVENT
END:VCALENDAR