BEGIN:VCALENDAR
VERSION:2.0
PRODID:-//VideoAge International - ECPv6.15.16//NONSGML v1.0//EN
CALSCALE:GREGORIAN
METHOD:PUBLISH
X-ORIGINAL-URL:https://www.videoageinternational.net
X-WR-CALDESC:Events for VideoAge International
REFRESH-INTERVAL;VALUE=DURATION:PT1H
X-Robots-Tag:noindex
X-PUBLISHED-TTL:PT1H
BEGIN:VTIMEZONE
TZID:UTC
BEGIN:STANDARD
TZOFFSETFROM:+0000
TZOFFSETTO:+0000
TZNAME:UTC
DTSTART:20250101T000000
END:STANDARD
END:VTIMEZONE
BEGIN:VEVENT
DTSTART;VALUE=DATE:20260212
DTEND;VALUE=DATE:20260223
DTSTAMP:20260423T164616
CREATED:20151121T220832Z
LAST-MODIFIED:20260103T112934Z
UID:13108-1770854400-1771804799@www.videoageinternational.net
SUMMARY:BERLINALE
DESCRIPTION:February 12-22\nBerlin\, Germany \nTel: (49 30) 2592-0707 \nwww.berlinale.de
URL:https://www.videoageinternational.net/event/berlinale-co-production-market/
LOCATION:Berlin\, Berlin\, Germany
CATEGORIES:Events
ATTACH;FMTTYPE=image/jpeg:https://www.videoageinternational.net/wp-content/uploads/2015/11/BerlinaleBear.jpg
END:VEVENT
END:VCALENDAR