BEGIN:VCALENDAR
VERSION:2.0
PRODID:-//VideoAge International - ECPv6.15.16//NONSGML v1.0//EN
CALSCALE:GREGORIAN
METHOD:PUBLISH
X-ORIGINAL-URL:https://www.videoageinternational.net
X-WR-CALDESC:Events for VideoAge International
REFRESH-INTERVAL;VALUE=DURATION:PT1H
X-Robots-Tag:noindex
X-PUBLISHED-TTL:PT1H
BEGIN:VTIMEZONE
TZID:UTC
BEGIN:STANDARD
TZOFFSETFROM:+0000
TZOFFSETTO:+0000
TZNAME:UTC
DTSTART:20250101T000000
END:STANDARD
END:VTIMEZONE
BEGIN:VEVENT
DTSTART;VALUE=DATE:20261101
DTEND;VALUE=DATE:20261102
DTSTAMP:20260423T212534
CREATED:20151122T221734Z
LAST-MODIFIED:20260103T115624Z
UID:13161-1793491200-1793577599@www.videoageinternational.net
SUMMARY:AFM
DESCRIPTION:November tba\nLos Angeles\, CA \nTel: (+1 310) 446-1000 \nwww.americanfilmmarket.com
URL:https://www.videoageinternational.net/event/afm/
LOCATION:Los Angeles\, Los Angeles\, CA\, United States
CATEGORIES:Events
ATTACH;FMTTYPE=image/jpeg:https://www.videoageinternational.net/wp-content/uploads/2015/11/CenturyPlazaLA.jpg
END:VEVENT
END:VCALENDAR