BEGIN:VCALENDAR
VERSION:2.0
PRODID:-//VideoAge International - ECPv6.15.16//NONSGML v1.0//EN
CALSCALE:GREGORIAN
METHOD:PUBLISH
X-WR-CALNAME:VideoAge International
X-ORIGINAL-URL:https://www.videoageinternational.net
X-WR-CALDESC:Events for VideoAge International
REFRESH-INTERVAL;VALUE=DURATION:PT1H
X-Robots-Tag:noindex
X-PUBLISHED-TTL:PT1H
BEGIN:VTIMEZONE
TZID:UTC
BEGIN:STANDARD
TZOFFSETFROM:+0000
TZOFFSETTO:+0000
TZNAME:UTC
DTSTART:20240101T000000
END:STANDARD
END:VTIMEZONE
BEGIN:VEVENT
DTSTART;VALUE=DATE:20250623
DTEND;VALUE=DATE:20250627
DTSTAMP:20260424T051133
CREATED:20151121T220022Z
LAST-MODIFIED:20250210T175332Z
UID:13102-1750636800-1750982399@www.videoageinternational.net
SUMMARY:NATPE BUDAPEST
DESCRIPTION:June 23-26\nBudapest\, Hungary \nTel: (416) 408-2300 x 238 \nwww.natpe.com
URL:https://www.videoageinternational.net/event/natpe-budapest-international/
LOCATION:Budapest\, Budapest\, Hungary
CATEGORIES:Events
ATTACH;FMTTYPE=image/jpeg:https://www.videoageinternational.net/wp-content/uploads/2020/06/Budapest-copy.jpg
END:VEVENT
BEGIN:VEVENT
DTSTART;VALUE=DATE:20250623
DTEND;VALUE=DATE:20250627
DTSTAMP:20260424T051133
CREATED:20151122T215551Z
LAST-MODIFIED:20250210T175430Z
UID:13138-1750636800-1750982399@www.videoageinternational.net
SUMMARY:SUNNY SIDE OF THE DOC
DESCRIPTION:June 23-26\nLa Rochelle\, France \nTel: (33 5) 4655 7979 \nwww.sunnysideofthedoc.com
URL:https://www.videoageinternational.net/event/sunny-side-of-the-doc/
LOCATION:La Rochelle\, La Rochelle\, France
CATEGORIES:Events
ATTACH;FMTTYPE=image/jpeg:https://www.videoageinternational.net/wp-content/uploads/2015/11/la_rochelle.jpg
END:VEVENT
END:VCALENDAR